BEGIN:VCALENDAR
VERSION:2.0
PRODID:-//Ludgate - ECPv6.15.19//NONSGML v1.0//EN
CALSCALE:GREGORIAN
METHOD:PUBLISH
X-WR-CALNAME:Ludgate
X-ORIGINAL-URL:https://www.ludgate.ie
X-WR-CALDESC:Events for Ludgate
REFRESH-INTERVAL;VALUE=DURATION:PT1H
X-Robots-Tag:noindex
X-PUBLISHED-TTL:PT1H
BEGIN:VTIMEZONE
TZID:UTC
BEGIN:STANDARD
TZOFFSETFROM:+0000
TZOFFSETTO:+0000
TZNAME:UTC
DTSTART:20190101T000000
END:STANDARD
END:VTIMEZONE
BEGIN:VEVENT
DTSTART;TZID=UTC:20201125T110000
DTEND;TZID=UTC:20201125T130000
DTSTAMP:20260423T013953
CREATED:20201111T143753Z
LAST-MODIFIED:20201111T143753Z
UID:3177-1606302000-1606309200@www.ludgate.ie
SUMMARY:The Future Of Agriculture
DESCRIPTION:  \nTopic: The future of Agriculture   \n  \nAim: To identify the opportunity and innovation within the Agriculture industry at present by building sustainable\, resilient agricultural supply chains thereby reducing climate impacts and adopting more sustainable business strategies. \n  \nEvent MC:  \nJustin McCarthy\, Editor & Chief Executive of the Irish Farmers Journal. \nSpeakers \n\nTara McCarthy\, CEO Bord Bia\nAntoine Pajot\, AgriTech Centre Director\, UCD Research and Innovation NovaUCD.\nPhil Hogan Former TD and European Commissioner.\n\nPanellists: \n\nProfessor Alan Matthews\, Professor Emeritus of European Agricultural Policy at Trinity College Dublin.\nPippa Hacket\, Minister of State for Land Use and Biodiversity.\n\n\nWilliam Kingston\, Dairy Farmer.
URL:https://www.ludgate.ie/event/the-future-of-agriculture/
END:VEVENT
END:VCALENDAR