BEGIN:VCALENDAR
VERSION:2.0
PRODID:-//Ludgate - ECPv6.15.19//NONSGML v1.0//EN
CALSCALE:GREGORIAN
METHOD:PUBLISH
X-ORIGINAL-URL:https://www.ludgate.ie
X-WR-CALDESC:Events for Ludgate
REFRESH-INTERVAL;VALUE=DURATION:PT1H
X-Robots-Tag:noindex
X-PUBLISHED-TTL:PT1H
BEGIN:VTIMEZONE
TZID:UTC
BEGIN:STANDARD
TZOFFSETFROM:+0000
TZOFFSETTO:+0000
TZNAME:UTC
DTSTART:20200101T000000
END:STANDARD
END:VTIMEZONE
BEGIN:VEVENT
DTSTART;VALUE=DATE:20210318
DTEND;VALUE=DATE:20210319
DTSTAMP:20260422T193540
CREATED:20210217T120710Z
LAST-MODIFIED:20210217T120742Z
UID:4201-1616025600-1616111999@www.ludgate.ie
SUMMARY:The Future of Education
DESCRIPTION:The Future of Education with Lord David Puttnam and Prof John O’Halloran Interim President of UCC.
URL:https://www.ludgate.ie/event/the-future-of-education/
LOCATION:Ludgate Virtual Event\, Ireland
END:VEVENT
END:VCALENDAR