BEGIN:VCALENDAR
VERSION:2.0
PRODID:-//Ludgate - ECPv6.15.19//NONSGML v1.0//EN
CALSCALE:GREGORIAN
METHOD:PUBLISH
X-ORIGINAL-URL:https://www.ludgate.ie
X-WR-CALDESC:Events for Ludgate
REFRESH-INTERVAL;VALUE=DURATION:PT1H
X-Robots-Tag:noindex
X-PUBLISHED-TTL:PT1H
BEGIN:VTIMEZONE
TZID:UTC
BEGIN:STANDARD
TZOFFSETFROM:+0000
TZOFFSETTO:+0000
TZNAME:UTC
DTSTART:20200101T000000
END:STANDARD
END:VTIMEZONE
BEGIN:VEVENT
DTSTART;TZID=UTC:20210610T110000
DTEND;TZID=UTC:20210610T120000
DTSTAMP:20260422T151819
CREATED:20210531T203118Z
LAST-MODIFIED:20210531T203618Z
UID:4330-1623322800-1623326400@www.ludgate.ie
SUMMARY:Opportunities in a Climate Neutral Environment
DESCRIPTION:Over the coming decade\, the economic and regulatory framework is set to change dramatically in order to support the Green agenda. This makes it vital that people and business of all types and sizes start to understand and manage their “carbon footprint”. Integral to this is understanding the opportunities that can be leveraged by all in society through appropriate implementation.  \nAt this event our panellists will discuss: \nWhat does it mean to manage your carbon footprint and why is it important for you and your business? \nHow much do we need to reduce our emissions and how easy will that be to do?  \nWhat are the opportunities of living and striving towards a carbon neutral environment? \nOur panellists encourage engagement from the attendees and will answer the questions posed to them on the day to ensure the voice of the attendee is heard.  \nOur Panellists include: \n\nDr. Cathal Wilson\, Co Founder & COO of Nexalus\, Nexalus is the leading solution provider for sustainable electronic cooling\, with patented technology that prioritises not only performance and profit\, but also the planet. \nDr. Paul Deane\, Energy Researcher at UCC specialising in Integrated Energy Systems Modelling and\n Eloise Heron of AIB\, a Chartered Valuation Surveyor\, and a Fellow of the Society of Chartered Surveyors Ireland (SCSI) and holds a Masters in Sustainable Development from TU Dublin.\n\nWhy Attend:  \nEducational event on the latest industry issues. \nKey insights from industry thought leaders\, practitioners & service providers. \nFirst-hand information on the challenges ahead. \nNote: Please ensure you register with an email address you can access. Once you have registered you will receive a confirmation email. Within 24hours before the event you will receive a link by email to enter the event.
URL:https://www.ludgate.ie/event/opportunities-in-a-climate-neutral-environment-sustaining-female-food-entrepreneurs/
LOCATION:Online
END:VEVENT
END:VCALENDAR