BEGIN:VCALENDAR
VERSION:2.0
PRODID:-//Ludgate - ECPv6.15.19//NONSGML v1.0//EN
CALSCALE:GREGORIAN
METHOD:PUBLISH
X-ORIGINAL-URL:https://www.ludgate.ie
X-WR-CALDESC:Events for Ludgate
REFRESH-INTERVAL;VALUE=DURATION:PT1H
X-Robots-Tag:noindex
X-PUBLISHED-TTL:PT1H
BEGIN:VTIMEZONE
TZID:UTC
BEGIN:STANDARD
TZOFFSETFROM:+0000
TZOFFSETTO:+0000
TZNAME:UTC
DTSTART:20200101T000000
END:STANDARD
END:VTIMEZONE
BEGIN:VEVENT
DTSTART;TZID=UTC:20211118T081500
DTEND;TZID=UTC:20211118T091500
DTSTAMP:20260422T072423
CREATED:20211112T115852Z
LAST-MODIFIED:20211112T115930Z
UID:5000-1637223300-1637226900@www.ludgate.ie
SUMMARY:Ludgate's Start-Up Propeller Series: Episode 1 - Financial & Educational Supports Overview with LEO
DESCRIPTION:The Ludgate Hub will welcome Kevin Curran\, Head of Enterprise at LEO\, and Deirdre O’ Mahoney\, Senior Enterprise Development Officer at LEO on Thursday 18th November 2021.  \nBoth Kevin and Deirdre will present on the various supports available through Cork North and West Local Enterprise Office focusing specifically on the educational and financial supports available for those that are thinking of starting their own business or are already established\, identifying the T’s and C’s associated and the best supports available for the various stages of Business .  \nThis event is for you if: \n\nyou are planning to commence a start-up business and have no idea what steps to take in order to make this start-up business successful. \nIf you have already executed a start-up business idea & want to know the best supports available to make your start-up business successful.\n If you already have an established business & want to know more about the supports available to you and your business broadening your knowledge and financial base to sustain\, succeed and grow. \n\nAs we navigate through Covid times we want to welcome people back to the Ludgate Facility for events however we must proceed with caution and in accordance with HSE and Government guidelines therefore we are welcoming a maximum of 12 people in attendance at the Ludgate Hub\, Skibbereen on the 18th November. There is in addition to this a virtual environment available for which attendees will be able to listen and view the presentation on the morning from the comfort of their own home. \nPlease note that for those in attendance we will be adhering to guidelines and require facemasks to be worn within the Ludgate Facility at all times. Covid Certs will be checked and social distancing will be adhered to.  \nWe look forward to welcoming people back and to helping in sharing knowledge again with the commencement of our Propeller Series for Start ups and established Businesses.
URL:https://www.ludgate.ie/event/ludgates-start-up-propeller-series-episode-1-financial-educational-supports-overview-with-leo/
LOCATION:Virtual & Physcial event\, The West Cork Hotel\, Skibbereen\, Cork\, Ireland
END:VEVENT
END:VCALENDAR