BEGIN:VCALENDAR
VERSION:2.0
PRODID:-//Ludgate - ECPv6.15.19//NONSGML v1.0//EN
CALSCALE:GREGORIAN
METHOD:PUBLISH
X-ORIGINAL-URL:https://www.ludgate.ie
X-WR-CALDESC:Events for Ludgate
REFRESH-INTERVAL;VALUE=DURATION:PT1H
X-Robots-Tag:noindex
X-PUBLISHED-TTL:PT1H
BEGIN:VTIMEZONE
TZID:UTC
BEGIN:STANDARD
TZOFFSETFROM:+0000
TZOFFSETTO:+0000
TZNAME:UTC
DTSTART:20210101T000000
END:STANDARD
END:VTIMEZONE
BEGIN:VEVENT
DTSTART;TZID=UTC:20220113T083000
DTEND;TZID=UTC:20220113T093000
DTSTAMP:20260422T041126
CREATED:20220112T130608Z
LAST-MODIFIED:20220112T131340Z
UID:5160-1642062600-1642066200@www.ludgate.ie
SUMMARY:Digital Marketing Essentials to Grow Your Business
DESCRIPTION:Propeller Series  \nEpisode 2 Digital Marketing Essentials to Grow Your Business with Marie Wiseman \n\n\n\nOur online event explores digital marketing best practices\, where to start and the free resources available to businesses enabling growth.\nAbout this event\n\n\n\n\n\n\n\nLudgate is delighted to have Marie Wiseman as our second speaker in the Ludgate Propeller series. Marie is owner and founder of Wiser Marketing\, a West Cork based marketing consultancy offering training\, advice and practical help in delivering all forms of marketing initiatives\, working with micro and small businesses as well as start-ups. Her business was West Cork Branch Winner in the Network Ireland Businesswoman of the Year Awards for 2020 in the Emerging New Business category.
URL:https://www.ludgate.ie/event/digital-marketing-essentials-to-grow-your-business/
LOCATION:Ludgate Virtual Event\, Ireland
END:VEVENT
END:VCALENDAR