BEGIN:VCALENDAR
VERSION:2.0
PRODID:-//Ludgate - ECPv6.15.19//NONSGML v1.0//EN
CALSCALE:GREGORIAN
METHOD:PUBLISH
X-ORIGINAL-URL:https://www.ludgate.ie
X-WR-CALDESC:Events for Ludgate
REFRESH-INTERVAL;VALUE=DURATION:PT1H
X-Robots-Tag:noindex
X-PUBLISHED-TTL:PT1H
BEGIN:VTIMEZONE
TZID:UTC
BEGIN:STANDARD
TZOFFSETFROM:+0000
TZOFFSETTO:+0000
TZNAME:UTC
DTSTART:20210101T000000
END:STANDARD
END:VTIMEZONE
BEGIN:VEVENT
DTSTART;TZID=UTC:20220304T110000
DTEND;TZID=UTC:20220304T120000
DTSTAMP:20260422T012224
CREATED:20220209T121153Z
LAST-MODIFIED:20220209T121315Z
UID:5699-1646391600-1646395200@www.ludgate.ie
SUMMARY:Grow Remote - West Cork Chapter (series 2)
DESCRIPTION:Grow Remote ‘West Cork’ will host a virtual coffee morning to discuss remote working in west Cork. Everyone welcome. \nWe hope you can join us for the second in a monthly series of coffee mornings. Perhaps you are new to the area of west Cork and would like to meet other like minded people? Looking for job opportunities? Maybe you are working remotely or are interested to learn more about it? Would you like to connect with other remote workers locally? Everyone is welcome\, we look forward to meeting you all. \n 
URL:https://www.ludgate.ie/event/grow-remote-west-cork-chapter-series-2/
END:VEVENT
END:VCALENDAR