BEGIN:VCALENDAR
VERSION:2.0
PRODID:-//Ludgate - ECPv6.15.19//NONSGML v1.0//EN
CALSCALE:GREGORIAN
METHOD:PUBLISH
X-WR-CALNAME:Ludgate
X-ORIGINAL-URL:https://www.ludgate.ie
X-WR-CALDESC:Events for Ludgate
REFRESH-INTERVAL;VALUE=DURATION:PT1H
X-Robots-Tag:noindex
X-PUBLISHED-TTL:PT1H
BEGIN:VTIMEZONE
TZID:UTC
BEGIN:STANDARD
TZOFFSETFROM:+0000
TZOFFSETTO:+0000
TZNAME:UTC
DTSTART:20210101T000000
END:STANDARD
END:VTIMEZONE
BEGIN:VEVENT
DTSTART;TZID=UTC:20220401T110000
DTEND;TZID=UTC:20220401T120000
DTSTAMP:20260421T235842
CREATED:20220311T101528Z
LAST-MODIFIED:20220328T160442Z
UID:5806-1648810800-1648814400@www.ludgate.ie
SUMMARY:Grow Remote
DESCRIPTION:  \n  \nThe team at Grow Remote West Cork look forward to seeing you all for the third in our monthly series on April 1st. This will be a remote first event but this month you will also have the option to join us at Ludgate for the event followed by a real coffee! Special guests for you this month as we are joined by Tracy Keogh – Co Founder of Grow Remote and Michael Johnston – Founder and CEO at The Aspen Company.
URL:https://www.ludgate.ie/event/grow-remote/
LOCATION:Ludgate Virtual Event\, Ireland
END:VEVENT
END:VCALENDAR