BEGIN:VCALENDAR
VERSION:2.0
PRODID:-//Ludgate - ECPv6.15.19//NONSGML v1.0//EN
CALSCALE:GREGORIAN
METHOD:PUBLISH
X-ORIGINAL-URL:https://www.ludgate.ie
X-WR-CALDESC:Events for Ludgate
REFRESH-INTERVAL;VALUE=DURATION:PT1H
X-Robots-Tag:noindex
X-PUBLISHED-TTL:PT1H
BEGIN:VTIMEZONE
TZID:UTC
BEGIN:STANDARD
TZOFFSETFROM:+0000
TZOFFSETTO:+0000
TZNAME:UTC
DTSTART:20210101T000000
END:STANDARD
END:VTIMEZONE
BEGIN:VEVENT
DTSTART;TZID=UTC:20220411T103000
DTEND;TZID=UTC:20220414T123000
DTSTAMP:20260422T000001
CREATED:20220314T091823Z
LAST-MODIFIED:20220314T093007Z
UID:5812-1649673000-1649939400@www.ludgate.ie
SUMMARY:Ludgate Education BuildIT Easter Camp
DESCRIPTION:Ludgate Education\, in partnership with ESB and Spearline will be hosting a STEAM Easter camp. \nThe Ludgate Education BuildIT camp is for the children who can’t stop tinkering with technology\, the ones who love learning about nature and how the world works\, the kids who love to create\, design and build\, the children who are mad for science experiments and those who love building with LEGO! These are the boys and girls who have the potential to be great scientists\, engineers\, programmers and designers! \nLudgate Education BuildIT camps for ages 8 -14. \nLocated in the Gaelscoil; Skibbereen the Ludgate Education camp has been designed to inspire and develop Science\, Technology\, Engineering\, Arts and Maths (STEAM) skills through a wide range of hands on\, engaging activities.  \nThe camp will help people develop the critical skills they need to meet the challenges of a future in which innovation\, originality and the ability to work with others will be vital. \n– Junior Robotics – for 8 -12 year olds using LEGO Education WeDo 2.0/ iPads. \n– Senior Creative – for 10-14 year olds using LEGO Education WeDo 2.0/ EV3/ iPads. \nWhen your child attends a Ludgate BuildIT camp\, you can be sure that they are learning with some of the leading Irish experts in the field of STEAM education. Your children will have the opportunity to explore subjects and use materials that are not always available at school or at home. \nYou can also be confident that your children are in the hands of our highly trained\, garda-vetted leaders. \n  \nCamp Hours\n10:30am to 12:30pm Monday\, Tuesday\, Wednesday and Thursday.  \nCamp Cost \n1 Child: €80.00 \n2 Children: €150.00
URL:https://www.ludgate.ie/event/ludgate-education-buildit-easter-camp/
END:VEVENT
END:VCALENDAR