BEGIN:VCALENDAR
VERSION:2.0
PRODID:-//Ludgate - ECPv6.15.19//NONSGML v1.0//EN
CALSCALE:GREGORIAN
METHOD:PUBLISH
X-ORIGINAL-URL:https://www.ludgate.ie
X-WR-CALDESC:Events for Ludgate
REFRESH-INTERVAL;VALUE=DURATION:PT1H
X-Robots-Tag:noindex
X-PUBLISHED-TTL:PT1H
BEGIN:VTIMEZONE
TZID:UTC
BEGIN:STANDARD
TZOFFSETFROM:+0000
TZOFFSETTO:+0000
TZNAME:UTC
DTSTART:20210101T000000
END:STANDARD
END:VTIMEZONE
BEGIN:VEVENT
DTSTART;TZID=UTC:20220429T130000
DTEND;TZID=UTC:20220429T140000
DTSTAMP:20260421T222442
CREATED:20220427T151900Z
LAST-MODIFIED:20220427T153840Z
UID:6205-1651237200-1651240800@www.ludgate.ie
SUMMARY:National Workplace Wellbeing - Lunchtime Walk
DESCRIPTION:Join us to celebrate National Workplace Wellbeing Day 2022. We are meeting at Lough Hyne Pier at 1pm. \nEveryone is Welcome! \nHope to see you there!
URL:https://www.ludgate.ie/event/national-workplace-wellbeing-lunchtime-walk/
LOCATION:Lough hyne\, 5KM from Skibbereen\, Skibbereen\, Ireland
END:VEVENT
END:VCALENDAR