BEGIN:VCALENDAR
VERSION:2.0
PRODID:-//Ludgate - ECPv6.15.19//NONSGML v1.0//EN
CALSCALE:GREGORIAN
METHOD:PUBLISH
X-WR-CALNAME:Ludgate
X-ORIGINAL-URL:https://www.ludgate.ie
X-WR-CALDESC:Events for Ludgate
REFRESH-INTERVAL;VALUE=DURATION:PT1H
X-Robots-Tag:noindex
X-PUBLISHED-TTL:PT1H
BEGIN:VTIMEZONE
TZID:UTC
BEGIN:STANDARD
TZOFFSETFROM:+0000
TZOFFSETTO:+0000
TZNAME:UTC
DTSTART:20210101T000000
END:STANDARD
END:VTIMEZONE
BEGIN:VEVENT
DTSTART;TZID=UTC:20220922T080000
DTEND;TZID=UTC:20221208T170000
DTSTAMP:20260421T083142
CREATED:20220907T103748Z
LAST-MODIFIED:20220907T104312Z
UID:6644-1663833600-1670518800@www.ludgate.ie
SUMMARY:ReIgnite Programme
DESCRIPTION:Reignite Programme: 11 week training course  \nThe Ludgate hub has been announced as 1 of the 6 awardees under Rethink Ireland’s Rural Recovery Fund 2021. The fund was set up to combat the negative effects of the Covid-19 pandemic on rural Ireland. \nAccording to Rethink Ireland\, “Economic disadvantage\, lack of job and educational opportunities and social isolation are some of the most crucial challenges facing rural Ireland.” \nThrough the Ludgate Reignite Programme we will support women in West Cork who wish to return to work to rebuild their confidence\, develop appropriate professional skills and ultimately support them to re-enter the workforce. We will do this by providing an 11 week tailored training\, coaching and mentoring programme followed by a work experience placement. The content is tailored to the specific challenges faced by women returners in rural areas of Ireland. This funding will allow us to run the programme twice\, supporting at least 20 women\, 70% of whom it is expected will go on to secure employment. \nFurther details to be confirmed.
URL:https://www.ludgate.ie/event/reignite-programme/
LOCATION:The Ludgate Hub\, The Old bakery\, Townshend St.\, Skibbereen\, cork\, P81 T324\, Ireland
END:VEVENT
BEGIN:VEVENT
DTSTART;TZID=UTC:20221128T120000
DTEND;TZID=UTC:20221128T153000
DTSTAMP:20260421T083142
CREATED:20221122T122230Z
LAST-MODIFIED:20221122T123442Z
UID:6954-1669636800-1669649400@www.ludgate.ie
SUMMARY:Atlantic TIDE - Project to boost the design economy with Pharma & Med Tech
DESCRIPTION:Event Goal: To bring together design businesses\, industry stakeholders\, and local support entities to share the potential of design as well as some of the challenges that design businesses face. With an emphasis on Pharma/MedTech \nReps from Atlantic TIDE Jessica Fuller (WDC)\, Charlotte Baker (IDI) and John Lynch\nModerated session\, \nSchedule  \n12:15 – Registration\, lunch provided \n13:00 – Welcome\, Overview & Summary \n13:40 – Research Findings to date \n14:00 – Facilitated Round Table Discussions \n14:20 – What’s next… \n14:30 – Tea\, coffee\, networking \nAt these in-person events\, we’ll share what we’ve learned about the huge opportunity that design offers your industry. We’ll also ask that you share with us your goals\, expectations\, and any challenges you’ve faced in procuring or applying design in your organisation. \nFollowing these workshops\, we’ll take the insights you share back to the government to drive sustainable cross industry linkages with view to job creation and enterprise growth in the Atlantic region.
URL:https://www.ludgate.ie/event/atlantic-tide-project-to-boost-the-design-economy-with-pharma-med-tech/
LOCATION:Ludgate Hub\, Townshend Street\, Skibbereen\, Cork\, PE81T324\, Ireland
ATTACH;FMTTYPE=image/png:https://www.ludgate.ie/wp-content/uploads/2022/11/Twitter-Tide.png
END:VEVENT
END:VCALENDAR