BEGIN:VCALENDAR
VERSION:2.0
PRODID:-//Ludgate - ECPv6.15.19//NONSGML v1.0//EN
CALSCALE:GREGORIAN
METHOD:PUBLISH
X-ORIGINAL-URL:https://www.ludgate.ie
X-WR-CALDESC:Events for Ludgate
REFRESH-INTERVAL;VALUE=DURATION:PT1H
X-Robots-Tag:noindex
X-PUBLISHED-TTL:PT1H
BEGIN:VTIMEZONE
TZID:UTC
BEGIN:STANDARD
TZOFFSETFROM:+0000
TZOFFSETTO:+0000
TZNAME:UTC
DTSTART:20190101T000000
END:STANDARD
END:VTIMEZONE
BEGIN:VEVENT
DTSTART;TZID=UTC:20201210T110000
DTEND;TZID=UTC:20201210T114500
DTSTAMP:20260422T223838
CREATED:20201204T162246Z
LAST-MODIFIED:20201204T162331Z
UID:3472-1607598000-1607600700@www.ludgate.ie
SUMMARY:Mental Health & Well-being at Christmas
DESCRIPTION:  \nWe are delighted to confirm Priscilla Lynch\, Head of Service Health & Wellbeing\, Cork Kerry Community Healthcare and Fiona O Donnell\, Fiona O’Donnell Nutrition and Health as guest speakers at our December virtual event.  \n  \nBoth Priscilla and Fiona are experts in their fields and both are passionate about spreading awareness about mental health and well-being. \nThe overall aim of the event is to inform attendees of ways to enhance Christmas by looking after their mental and physical well-being. \n 
URL:https://www.ludgate.ie/event/mental-health-well-being-at-christmas/
LOCATION:Ludgate Virtual Event\, Ireland
END:VEVENT
END:VCALENDAR