BEGIN:VCALENDAR
VERSION:2.0
PRODID:-//Ludgate - ECPv6.15.19//NONSGML v1.0//EN
CALSCALE:GREGORIAN
METHOD:PUBLISH
X-ORIGINAL-URL:https://www.ludgate.ie
X-WR-CALDESC:Events for Ludgate
REFRESH-INTERVAL;VALUE=DURATION:PT1H
X-Robots-Tag:noindex
X-PUBLISHED-TTL:PT1H
BEGIN:VTIMEZONE
TZID:UTC
BEGIN:STANDARD
TZOFFSETFROM:+0000
TZOFFSETTO:+0000
TZNAME:UTC
DTSTART:20210101T000000
END:STANDARD
END:VTIMEZONE
BEGIN:VEVENT
DTSTART;TZID=UTC:20220304T110000
DTEND;TZID=UTC:20220304T120000
DTSTAMP:20260421T235958
CREATED:20220209T121153Z
LAST-MODIFIED:20220209T121315Z
UID:5699-1646391600-1646395200@www.ludgate.ie
SUMMARY:Grow Remote - West Cork Chapter (series 2)
DESCRIPTION:Grow Remote ‘West Cork’ will host a virtual coffee morning to discuss remote working in west Cork. Everyone welcome. \nWe hope you can join us for the second in a monthly series of coffee mornings. Perhaps you are new to the area of west Cork and would like to meet other like minded people? Looking for job opportunities? Maybe you are working remotely or are interested to learn more about it? Would you like to connect with other remote workers locally? Everyone is welcome\, we look forward to meeting you all. \n 
URL:https://www.ludgate.ie/event/grow-remote-west-cork-chapter-series-2/
END:VEVENT
BEGIN:VEVENT
DTSTART;TZID=UTC:20220309T110000
DTEND;TZID=UTC:20220309T120000
DTSTAMP:20260421T235958
CREATED:20220214T105505Z
LAST-MODIFIED:20220303T164311Z
UID:5723-1646823600-1646827200@www.ludgate.ie
SUMMARY:International Women's Day 2022
DESCRIPTION:Join Ludgate to celebrate International Women’s Day on the 9th March at 11am. We have a fantastic line up of speakers who will engage in a panel discussion to discuss the advancements that we have made as women in business over the last number of years and what still needs to be done to continue our efforts.\n \nImagine a gender equal world.  A world free of bias\, stereotypes\, and discrimination.  A world that is diverse\, equitable\, and inclusive.  A world where difference is valued and celebrated.  Together we can forge women’s equality.  Collectively we can all #BreakTheBias.  Individually\, we’re all responsible for our own thoughts and actions – all day\, every day.  We can break the bias in our communities.  We can break the bias in our workplaces.  We can break the bias in our schools\, colleges and universities.  Together\, we can all break the bias - on and beyond.\n \n\nSpeakers \nOur keynote speakers include Emily Hegarty Olympian Medallist and Holly Cairns local TD.  \nEmily is a member of the renowned Skibbereen Rowing Club and is a Irish Olympic medallist. In the Toyoko Olympics Emily\, together with her team of 4\, won the first medal for Irish women’s rowing. \nHolly is a West Cork TD and spokesperson for Agriculture\, Disability & Social Justice. \nHosts\n \nHosting the event is Fiona O’Donovan Public Affairs & Communications Executive at Cork Chamber together with Grainne O’Keeffe\, Ludgate CEO. \n \n \n \n \nPanel \n\nFiona Edwards Murphy: CEO and Co-founder of ApisProtect.\nAnne Mc Comish: Head of Financial Management & Reporting COO in AIB.\nClaire Meskill: Founder of Teleatherapy.\nCarol Ho: COO of BaseWorx ❘ 2022 JCI European Development Councillor.\nMairead O’Driscoll: Chartered Accountant and Tax Advisor\, Creator of the Tax Nerd.
URL:https://www.ludgate.ie/event/international-womens-day-2022/
LOCATION:Ludgate Virtual Event\, Ireland
ATTACH;FMTTYPE=image/png:https://www.ludgate.ie/wp-content/uploads/2022/02/IWD-Speakers-social-media-Graphic-Copy-e1646325554361.png
END:VEVENT
BEGIN:VEVENT
DTSTART;TZID=UTC:20220314T190000
DTEND;TZID=UTC:20220314T190000
DTSTAMP:20260421T235958
CREATED:20220314T095825Z
LAST-MODIFIED:20220314T095825Z
UID:5819-1647284400-1647284400@www.ludgate.ie
SUMMARY:Ludgate Members Spotlight Series Launch
DESCRIPTION:
URL:https://www.ludgate.ie/event/ludgate-members-spotlight-series-launch/
END:VEVENT
BEGIN:VEVENT
DTSTART;TZID=UTC:20220322T123000
DTEND;TZID=UTC:20220322T131500
DTSTAMP:20260421T235958
CREATED:20220114T154314Z
LAST-MODIFIED:20220314T162236Z
UID:5199-1647952200-1647954900@www.ludgate.ie
SUMMARY:The Artform of Communication\, of imparting news and information.
DESCRIPTION:  \nThe artform of communication\, of imparting news and information – And it is an art.\nCommunication in Business involves relaying information from one source to another to convey a specific message in order to attain a desired reaction or result. Communications strategies and plans therefore focus on delivering messages effectively to obtain specific results. \nThe success of firms may be based on developing relationships with clients and other key stakeholders. Respect and exceptional customer service go a long way towards maintaining successful relationships. But the ability to clearly\, concisely\, precisely and effectively communicate with clients and with each other\, as well as to understand other people’s ideas and effectively implement them\, is paramount to business success. \nThe evidence of effectively communicating with clients\, target clients\, media\, staff and other audiences is in the results achieved as a direct outcome of the messages communicated. \nOur event will focus on the various components of of effective communication such as: \n\nThe message\nTarget Audience\nmethod of dissemination \nThe reaction\nThe result\n\nWe are incredibly fortunate to be joined by Judy Hopkins of Hopkins Communication to talk us through the various components of an effective business communication strategy. \nJudy Hopkins – Company Partner/Owner at Irish integrated marketing communications agency\, Hopkins Communications (Network Cork’s PR Partner)\nTwenty years ago\, Judy Hopkins started out in the PR\, Events\, Digital Media and Marketing industry working in in-house retail\, tourism and technology marketing roles\, followed by international marketing agency positions and then on to the family business\, Irish integrated marketing communications agency\, Hopkins Communications. \nTwelve years ago\, she introduced Hopkins Communications’ online and digital media offering\, and expanded the PR and events offering\, while working across all of their other services such as advertising\, promotions and experiential marketing\, graphic design and more. \nCelebrating thirty-two years in business Hopkins Communications works clients including start-ups\, to SMEs\, to large multinationals.  \nJudy was recently named ‘Businesswoman of the Month’ by RSVP Live and was also named as one of RSVP Magazine’s ‘Most Influential Cork Women’. Always looking to network\, learn and share her knowledge with others\, Judy is an active member of the Public Relations Institute of Ireland\, Network Ireland – Cork Chapter (where Hopkins Communications is also the PR Partner)\, Cork Chamber (where she also sits on the Chamber Annual Dinner Task Force) and Cork Business Association. She is also former Chair of the Marketing Institute of Ireland\, Cork (and still resides on the committee\, with Hopkins Communications being the PR and Communications Partner for the last 10 years) and former Founding Chair of the British and Irish Trading Alliance Cork Chapter\, Judy was also a radio host with her show ‘The Business Hour’ on Cork City Community Radio\, where she interviewed Cork and Ireland’s top business minds about their journeys through business\, including their challenges\, highlights\, learnings and tips for listeners. \nYou can see Judy in action\, sharing her knowledge on the @hopkinscommunications Instagram account and blog\, where she has a series of marketing tips videos called ‘TEA Talks’ where she also chats with guests from the media world. She also works with her digital team on a monthly social media roundup called ‘Spakrs’. For more see www.h-c.ie or follow Hopkins Communications on Instagram\, LinkedIn\, Twitter\, Facebook and YouTube.
URL:https://www.ludgate.ie/event/the-artform-of-communication-at-any-stage-in-business/
LOCATION:Virtual & Physcial event\, The West Cork Hotel\, Skibbereen\, Cork\, Ireland
END:VEVENT
END:VCALENDAR