BEGIN:VCALENDAR
VERSION:2.0
PRODID:-//Ludgate - ECPv6.15.19//NONSGML v1.0//EN
CALSCALE:GREGORIAN
METHOD:PUBLISH
X-ORIGINAL-URL:https://www.ludgate.ie
X-WR-CALDESC:Events for Ludgate
REFRESH-INTERVAL;VALUE=DURATION:PT1H
X-Robots-Tag:noindex
X-PUBLISHED-TTL:PT1H
BEGIN:VTIMEZONE
TZID:UTC
BEGIN:STANDARD
TZOFFSETFROM:+0000
TZOFFSETTO:+0000
TZNAME:UTC
DTSTART:20210101T000000
END:STANDARD
END:VTIMEZONE
BEGIN:VEVENT
DTSTART;VALUE=DATE:20220609
DTEND;VALUE=DATE:20220610
DTSTAMP:20260421T193556
CREATED:20220511T112801Z
LAST-MODIFIED:20220512T112724Z
UID:6247-1654732800-1654819199@www.ludgate.ie
SUMMARY:hi-digital Classes
DESCRIPTION:Digital Skills for Everyday Living \nActive Retirement Ireland is proud to support this transformational project that will empower older people to use the internet and computers in their daily lives. The aim is to reach older people and improve digital literacy through delivering a national programme to increase digital literacy. \n  \nThe Ludgate hub will host a hi-digital class in Skibbereen\, West Cork starting on 9th of June. The class will teach basic and essential online skills. \n  \n“Discover all the amazing ways digital skills can make a difference in your life”  \nFind out more by calling 1800 20 30 30 or on www.activeirl.ie  (Please note bookings must be made with Active Retirement Ireland) \n  \nProudly supported by Vodafone Ireland Foundation and ALONE. \nMore information available on Active Retirement Ireland Website linked below.  \nhttps://activeirl.ie/hi-digital-skills-classes-schedule/
URL:https://www.ludgate.ie/event/hi-digital-classes/
LOCATION:The Ludgate Hub\, The Old bakery\, Townshend St.\, Skibbereen\, cork\, P81 T324\, Ireland
END:VEVENT
BEGIN:VEVENT
DTSTART;TZID=UTC:20220621T083000
DTEND;TZID=UTC:20220621T093000
DTSTAMP:20260421T193556
CREATED:20220608T114709Z
LAST-MODIFIED:20220608T114806Z
UID:6371-1655800200-1655803800@www.ludgate.ie
SUMMARY:Ludgate Start Up\, Entrepreneur and SME Breakfast Meet Up
DESCRIPTION:Join us for an informal networking breakfast at the Ludgate Hub. Connecting and learning from one another is key for business success. \n\n\nAbout this event\n\n\n\nCome join entrepreneurs\, start-ups\, and SMEs to share breakfast together and discuss the start-up process/developing and expanding business. \nOur goal is to help start-ups\, entrepreneurs and SMEs to connect by creating a friendly environment within which to share knowledge\, learnings and expand your connects along the way \nYou can expect to.. \n\nGet to know others and introduce yourself\nA great breakfast\nHave meaningful conversations\nLEARN from other businesses\n\nThere are no presentations just friendly chats.
URL:https://www.ludgate.ie/event/ludgate-start-up-entrepreneur-and-sme-breakfast-meet-up/
LOCATION:The Ludgate Hub\, The Old bakery\, Townshend St.\, Skibbereen\, cork\, P81 T324\, Ireland
ATTACH;FMTTYPE=image/png:https://www.ludgate.ie/wp-content/uploads/2022/06/Meet-Up-2160-×-1080-px.png
END:VEVENT
END:VCALENDAR